BEGIN:VCALENDAR
VERSION:2.0
PRODID:spatie/icalendar-generator
DESCRIPTION:志木の美容室・美容院｜CYAN（シアン）のイベ
 ント
X-WR-CALDESC:志木の美容室・美容院｜CYAN（シアン）のイベ
 ント
REFRESH-INTERVAL;VALUE=DURATION:PT1440M
X-PUBLISHED-TTL:PT1440M
BEGIN:VTIMEZONE
TZID:Asia/Tokyo
BEGIN:STANDARD
DTSTART:20250804T000000Z
TZOFFSETFROM:+0900
TZOFFSETTO:+0900
END:STANDARD
END:VTIMEZONE
BEGIN:VTIMEZONE
TZID:UTC
BEGIN:STANDARD
DTSTART:20250726T095029Z
TZOFFSETFROM:+0000
TZOFFSETTO:+0000
END:STANDARD
END:VTIMEZONE
BEGIN:VEVENT
UID:70-35
DTSTAMP:20260422T095029Z
SUMMARY:伊藤
LOCATION:
ORGANIZER;CN=cyan:MAILTO:cyan.hairsalon.2026@gmail.com
DTSTART;TZID=Asia/Tokyo;VALUE=DATE:20260501
DTEND;TZID=Asia/Tokyo;VALUE=DATE:20260502
X-ALT-DESC;FMTTYPE=TEXT/HTML:
CATEGORIES:staff
URL;VALUE=URI:https://cyanhair.com/mc-events/%e4%bc%8a%e8%97%a4-14/
METHOD:PUBLISH
END:VEVENT
END:VCALENDAR